BEGIN:VCALENDAR
VERSION:2.0
PRODID:-//94.9 MIXfm - ECPv5.6.0//NONSGML v1.0//EN
CALSCALE:GREGORIAN
METHOD:PUBLISH
X-WR-CALNAME:94.9 MIXfm
X-ORIGINAL-URL:https://www.mixfm.com
X-WR-CALDESC:Events for 94.9 MIXfm
BEGIN:VTIMEZONE
TZID:America/Phoenix
BEGIN:STANDARD
TZOFFSETFROM:-0700
TZOFFSETTO:-0700
TZNAME:MST
DTSTART:20250101T000000
END:STANDARD
END:VTIMEZONE
BEGIN:VEVENT
DTSTART;TZID=America/Phoenix:20251230T160000
DTEND;TZID=America/Phoenix:20251230T180000
DTSTAMP:20260419T160539
CREATED:20251210T201718Z
LAST-MODIFIED:20251210T201952Z
UID:76221-1767110400-1767117600@www.mixfm.com
SUMMARY:Tucson Holiday Ice Rink MIXFM Van Stop @ TCC
DESCRIPTION:Tucson Holiday Ice Now Open \nThe rink is now open! Schedule your time slot today. \nGuests who have purchased tickets for dates impacted by the delay will receive automatic refunds. No further action is required from customers. For questions\, call 520-791-4101 (option 1)\, weekdays between 10 a.m. and 4 p.m. \n260 S. Church Ave.\n(in front of the Tucson Convention Center Ticket Office)\n\n\n\nTickets can be purchased online (skates included)\, and there are no additional fees.\nSkates begin at size 8 for children and range up to size 15 for adult men.\nRentals are first-come\, first-served.\nSocks are required\, and gloves are highly recommended.\nNo bags allowed while skating.\nWe are not responsible for valuables left unattended.\n\nCall 520-791-4101\, option 1\, for questions (Monday-Friday\, 10 a.m.-4 p.m.) \nAdmission\n(First session only\, each day is discounted to $12 for adults and $8 for youth) \nAdults: $22 per 90-minute session\nChildren (Under 12): $15 per 90-minute session\nSkate assists: $7 (Rent on-site only)\nPrivate use (during off-hours): $750 per 90-minute session
URL:https://www.mixfm.com/event/tucson-holiday-ice-rink-mixfm-van-stop-tcc/2025-12-30/
LOCATION:TCC\, 260 S Church Ave\, Tucson\, AZ\, 85701\, United States
CATEGORIES:Christmas Events,Community,Events,Lotus Community,Remote / Van Stop
ATTACH;FMTTYPE=image/png:https://dehayf5mhw1h7.cloudfront.net/wp-content/uploads/sites/2189/2025/12/10131614/tucson-holiday-ice-banner.png
END:VEVENT
BEGIN:VEVENT
DTSTART;TZID=America/Phoenix:20251216T160000
DTEND;TZID=America/Phoenix:20251216T180000
DTSTAMP:20260419T160539
CREATED:20251210T201718Z
LAST-MODIFIED:20251210T201952Z
UID:76218-1765900800-1765908000@www.mixfm.com
SUMMARY:Tucson Holiday Ice Rink MIXFM Van Stop @ TCC
DESCRIPTION:Tucson Holiday Ice Now Open \nThe rink is now open! Schedule your time slot today. \nGuests who have purchased tickets for dates impacted by the delay will receive automatic refunds. No further action is required from customers. For questions\, call 520-791-4101 (option 1)\, weekdays between 10 a.m. and 4 p.m. \n260 S. Church Ave.\n(in front of the Tucson Convention Center Ticket Office)\n\n\n\nTickets can be purchased online (skates included)\, and there are no additional fees.\nSkates begin at size 8 for children and range up to size 15 for adult men.\nRentals are first-come\, first-served.\nSocks are required\, and gloves are highly recommended.\nNo bags allowed while skating.\nWe are not responsible for valuables left unattended.\n\nCall 520-791-4101\, option 1\, for questions (Monday-Friday\, 10 a.m.-4 p.m.) \nAdmission\n(First session only\, each day is discounted to $12 for adults and $8 for youth) \nAdults: $22 per 90-minute session\nChildren (Under 12): $15 per 90-minute session\nSkate assists: $7 (Rent on-site only)\nPrivate use (during off-hours): $750 per 90-minute session
URL:https://www.mixfm.com/event/tucson-holiday-ice-rink-mixfm-van-stop-tcc/2025-12-16/
LOCATION:TCC\, 260 S Church Ave\, Tucson\, AZ\, 85701\, United States
CATEGORIES:Christmas Events,Community,Events,Lotus Community,Remote / Van Stop
ATTACH;FMTTYPE=image/png:https://dehayf5mhw1h7.cloudfront.net/wp-content/uploads/sites/2189/2025/12/10131614/tucson-holiday-ice-banner.png
END:VEVENT
END:VCALENDAR